Package: erma Version: 1.20.0 Command: rm -rf erma.buildbin-libdir && mkdir erma.buildbin-libdir && F:\biocbuild\bbs-3.19-bioc\R\bin\R.exe CMD INSTALL --build --library=erma.buildbin-libdir erma_1.20.0.tar.gz StartedAt: 2024-06-27 08:11:16 -0400 (Thu, 27 Jun 2024) EndedAt: 2024-06-27 08:13:55 -0400 (Thu, 27 Jun 2024) EllapsedTime: 158.5 seconds RetCode: 0 Status: OK PackageFile: erma_1.20.0.zip PackageFileSize: 198.3 MiB