Package: erma Version: 1.20.0 Command: chmod a+r erma -R && E:\biocbuild\bbs-3.19-bioc\R\bin\R.exe CMD build --keep-empty-dirs --no-resave-data erma StartedAt: 2024-10-16 19:02:06 -0400 (Wed, 16 Oct 2024) EndedAt: 2024-10-16 19:03:49 -0400 (Wed, 16 Oct 2024) EllapsedTime: 103.0 seconds RetCode: 0 Status: OK PackageFile: erma_1.20.0.tar.gz PackageFileSize: 198 MiB