Package: esATAC Version: 1.26.0 Command: rm -rf esATAC.buildbin-libdir && mkdir esATAC.buildbin-libdir && /Users/biocbuild/BBS/utils/build-universal.sh esATAC_1.26.0.tar.gz /Library/Frameworks/R.framework/Resources/bin/R esATAC.buildbin-libdir StartedAt: 2024-10-18 18:25:09 -0400 (Fri, 18 Oct 2024) EndedAt: 2024-10-18 18:27:16 -0400 (Fri, 18 Oct 2024) EllapsedTime: 126.8 seconds RetCode: 0 Status: OK PackageFile: esATAC_1.26.0.tgz PackageFileSize: 8.165 MiB