Package: esATAC Version: 1.26.0 Command: /Library/Frameworks/R.framework/Resources/bin/R CMD build --keep-empty-dirs --no-resave-data esATAC StartedAt: 2024-10-16 19:06:57 -0400 (Wed, 16 Oct 2024) EndedAt: 2024-10-16 19:11:18 -0400 (Wed, 16 Oct 2024) EllapsedTime: 261.5 seconds RetCode: 0 Status: OK PackageFile: esATAC_1.26.0.tar.gz PackageFileSize: 9.863 MiB