Package: esATAC Version: 1.26.0 Command: /home/biocbuild/bbs-3.19-bioc/R/bin/R CMD build --keep-empty-dirs --no-resave-data esATAC StartedAt: 2024-10-16 18:25:53 -0400 (Wed, 16 Oct 2024) EndedAt: 2024-10-16 18:27:25 -0400 (Wed, 16 Oct 2024) EllapsedTime: 92.3 seconds RetCode: 0 Status: OK PackageFile: esATAC_1.26.0.tar.gz PackageFileSize: 9.863 MiB