Package: esATAC Version: 1.26.0 Command: chmod a+r esATAC -R && F:\biocbuild\bbs-3.19-bioc\R\bin\R.exe CMD build --keep-empty-dirs --no-resave-data esATAC StartedAt: 2024-06-26 18:44:55 -0400 (Wed, 26 Jun 2024) EndedAt: 2024-06-26 18:45:00 -0400 (Wed, 26 Jun 2024) EllapsedTime: 4.1 seconds RetCode: 1 Status: ERROR PackageFile: None PackageFileSize: NA