Package: esATAC Version: 1.26.0 Command: E:\biocbuild\bbs-3.19-bioc\R\bin\R.exe CMD INSTALL esATAC StartedAt: 2024-10-16 16:59:07 -0400 (Wed, 16 Oct 2024) EndedAt: 2024-10-16 16:59:08 -0400 (Wed, 16 Oct 2024) EllapsedTime: 1.0 seconds RetCode: 1 Status: ERROR