Package: escheR Version: 1.4.0 Command: rm -rf escheR.buildbin-libdir && mkdir escheR.buildbin-libdir && /Users/biocbuild/BBS/utils/build-universal.sh escheR_1.4.0.tar.gz /Library/Frameworks/R.framework/Resources/bin/R escheR.buildbin-libdir StartedAt: 2024-10-18 18:25:45 -0400 (Fri, 18 Oct 2024) EndedAt: 2024-10-18 18:26:24 -0400 (Fri, 18 Oct 2024) EllapsedTime: 38.4 seconds RetCode: 0 Status: OK PackageFile: escheR_1.4.0.tgz PackageFileSize: 3.562 MiB