Package: escheR Version: 1.3.2 Command: /home/biocbuild/R/R-beta-2024-04-15_r86425/bin/R CMD check --install=check:escheR.install-out.txt --library=/home/biocbuild/R/R-beta-2024-04-15_r86425/site-library --no-vignettes --timings escheR_1.3.2.tar.gz StartedAt: 2024-04-27 05:41:32 -0000 (Sat, 27 Apr 2024) EndedAt: 2024-04-27 05:45:47 -0000 (Sat, 27 Apr 2024) EllapsedTime: 254.4 seconds RetCode: 0 Status: OK CheckDir: escheR.Rcheck Warnings: 0