Package: escheR Version: 1.4.0 Command: E:\biocbuild\bbs-3.19-bioc\R\bin\R.exe CMD check --no-multiarch --install=check:escheR.install-out.txt --library=E:\biocbuild\bbs-3.19-bioc\R\library --no-vignettes --timings escheR_1.4.0.tar.gz StartedAt: 2024-10-17 01:20:06 -0400 (Thu, 17 Oct 2024) EndedAt: 2024-10-17 01:25:12 -0400 (Thu, 17 Oct 2024) EllapsedTime: 305.7 seconds RetCode: 0 Status: OK CheckDir: escheR.Rcheck Warnings: 0