Package: esetVis Version: 1.30.0 Command: /Library/Frameworks/R.framework/Resources/bin/R CMD INSTALL esetVis StartedAt: 2024-10-16 16:15:47 -0400 (Wed, 16 Oct 2024) EndedAt: 2024-10-16 16:16:04 -0400 (Wed, 16 Oct 2024) EllapsedTime: 17.8 seconds RetCode: 0 Status: OK