Package: esetVis Version: 1.30.0 Command: /Library/Frameworks/R.framework/Resources/bin/R CMD build --keep-empty-dirs --no-resave-data esetVis StartedAt: 2024-06-09 16:37:00 -0400 (Sun, 09 Jun 2024) EndedAt: 2024-06-09 16:38:35 -0400 (Sun, 09 Jun 2024) EllapsedTime: 94.8 seconds RetCode: 0 Status: OK PackageFile: esetVis_1.30.0.tar.gz PackageFileSize: 4.334 MiB