Package: esetVis Version: 1.30.0 Command: rm -rf esetVis.buildbin-libdir && mkdir esetVis.buildbin-libdir && F:\biocbuild\bbs-3.19-bioc\R\bin\R.exe CMD INSTALL --build --library=esetVis.buildbin-libdir esetVis_1.30.0.tar.gz StartedAt: 2024-06-27 08:11:27 -0400 (Thu, 27 Jun 2024) EndedAt: 2024-06-27 08:12:03 -0400 (Thu, 27 Jun 2024) EllapsedTime: 35.6 seconds RetCode: 0 Status: OK PackageFile: esetVis_1.30.0.zip PackageFileSize: 2.766 MiB