Package: evaluomeR Version: 1.20.5 Command: /Library/Frameworks/R.framework/Resources/bin/R CMD build --keep-empty-dirs --no-resave-data evaluomeR StartedAt: 2024-10-17 00:16:18 -0400 (Thu, 17 Oct 2024) EndedAt: 2024-10-17 00:17:40 -0400 (Thu, 17 Oct 2024) EllapsedTime: 81.7 seconds RetCode: 0 Status: OK PackageFile: evaluomeR_1.20.5.tar.gz PackageFileSize: 1.045 MiB