Package: evaluomeR Version: 1.20.0 Command: /Library/Frameworks/R.framework/Resources/bin/R CMD build --keep-empty-dirs --no-resave-data evaluomeR StartedAt: 2024-06-09 16:37:12 -0400 (Sun, 09 Jun 2024) EndedAt: 2024-06-09 16:38:22 -0400 (Sun, 09 Jun 2024) EllapsedTime: 70.1 seconds RetCode: 0 Status: OK PackageFile: evaluomeR_1.20.0.tar.gz PackageFileSize: 859.6 KiB