Package: evaluomeR Version: 1.20.5 Command: rm -rf evaluomeR.buildbin-libdir && mkdir evaluomeR.buildbin-libdir && /Users/biocbuild/BBS/utils/build-universal.sh evaluomeR_1.20.5.tar.gz /Library/Frameworks/R.framework/Resources/bin/R evaluomeR.buildbin-libdir StartedAt: 2024-10-17 16:07:52 -0400 (Thu, 17 Oct 2024) EndedAt: 2024-10-17 16:09:10 -0400 (Thu, 17 Oct 2024) EllapsedTime: 77.3 seconds RetCode: 0 Status: OK PackageFile: evaluomeR_1.20.5.tgz PackageFileSize: 776.4 KiB