Package: evaluomeR Version: 1.20.5 Command: /Library/Frameworks/R.framework/Resources/bin/R CMD build --keep-empty-dirs --no-resave-data evaluomeR StartedAt: 2024-10-16 19:08:20 -0400 (Wed, 16 Oct 2024) EndedAt: 2024-10-16 19:11:21 -0400 (Wed, 16 Oct 2024) EllapsedTime: 181.7 seconds RetCode: 0 Status: OK PackageFile: evaluomeR_1.20.5.tar.gz PackageFileSize: 1.044 MiB