Package: evaluomeR Version: 1.20.5 Command: rm -rf evaluomeR.buildbin-libdir && mkdir evaluomeR.buildbin-libdir && E:\biocbuild\bbs-3.19-bioc\R\bin\R.exe CMD INSTALL --build --library=evaluomeR.buildbin-libdir evaluomeR_1.20.5.tar.gz StartedAt: 2024-10-17 07:46:38 -0400 (Thu, 17 Oct 2024) EndedAt: 2024-10-17 07:47:18 -0400 (Thu, 17 Oct 2024) EllapsedTime: 40.7 seconds RetCode: 0 Status: OK PackageFile: evaluomeR_1.20.5.zip PackageFileSize: 581.6 KiB