Package: fCI Version: 1.34.0 Command: /Library/Frameworks/R.framework/Resources/bin/R CMD build --keep-empty-dirs --no-resave-data fCI StartedAt: 2024-10-16 19:13:45 -0400 (Wed, 16 Oct 2024) EndedAt: 2024-10-16 19:15:23 -0400 (Wed, 16 Oct 2024) EllapsedTime: 98.3 seconds RetCode: 0 Status: OK PackageFile: fCI_1.34.0.tar.gz PackageFileSize: 1.319 MiB