Package: fCI Version: 1.34.0 Command: chmod a+r fCI -R && F:\biocbuild\bbs-3.19-bioc\R\bin\R.exe CMD build --keep-empty-dirs --no-resave-data fCI StartedAt: 2024-06-26 18:51:19 -0400 (Wed, 26 Jun 2024) EndedAt: 2024-06-26 18:52:22 -0400 (Wed, 26 Jun 2024) EllapsedTime: 63.5 seconds RetCode: 0 Status: OK PackageFile: fCI_1.34.0.tar.gz PackageFileSize: 1.079 MiB