Package: fabia Version: 2.50.0 Command: /home/biocbuild/R/R-beta-2024-04-15_r86425/bin/R CMD build --keep-empty-dirs --no-resave-data fabia StartedAt: 2024-05-09 00:14:30 -0000 (Thu, 09 May 2024) EndedAt: 2024-05-09 00:14:51 -0000 (Thu, 09 May 2024) EllapsedTime: 21.0 seconds RetCode: 0 Status: OK PackageFile: fabia_2.50.0.tar.gz PackageFileSize: 783.2 KiB