Package: fabia Version: 2.50.0 Command: rm -rf fabia.buildbin-libdir && mkdir fabia.buildbin-libdir && /Users/biocbuild/BBS/utils/build-universal.sh fabia_2.50.0.tar.gz /Library/Frameworks/R.framework/Resources/bin/R fabia.buildbin-libdir StartedAt: 2024-06-10 00:17:51 -0400 (Mon, 10 Jun 2024) EndedAt: 2024-06-10 00:18:07 -0400 (Mon, 10 Jun 2024) EllapsedTime: 15.8 seconds RetCode: 0 Status: OK PackageFile: fabia_2.50.0.tgz PackageFileSize: 1.145 MiB