Package: fabia Version: 2.50.0 Command: /Library/Frameworks/R.framework/Resources/bin/R CMD check --install=check:fabia.install-out.txt --library=/Library/Frameworks/R.framework/Resources/library --no-vignettes --timings fabia_2.50.0.tar.gz StartedAt: 2024-06-09 20:19:45 -0400 (Sun, 09 Jun 2024) EndedAt: 2024-06-09 20:20:57 -0400 (Sun, 09 Jun 2024) EllapsedTime: 71.8 seconds RetCode: 0 Status: WARNINGS CheckDir: fabia.Rcheck Warnings: 2