Package: fabia Version: 2.50.0 Command: /Library/Frameworks/R.framework/Resources/bin/R CMD build --keep-empty-dirs --no-resave-data fabia StartedAt: 2024-10-16 19:11:35 -0400 (Wed, 16 Oct 2024) EndedAt: 2024-10-16 19:12:32 -0400 (Wed, 16 Oct 2024) EllapsedTime: 57.7 seconds RetCode: 0 Status: OK PackageFile: fabia_2.50.0.tar.gz PackageFileSize: 800.7 KiB