Package: farms Version: 1.56.0 Maintainer: Djork-Arne Clevert MaintainerEmail: okko at clevert.de git_url: https://git.bioconductor.org/packages/farms git_branch: RELEASE_3_19 git_last_commit: d304548 git_last_commit_date: 2024-04-30 10:22:32 -0400 (Tue, 30 Apr 2024)