Package: farms Version: 1.56.0 Command: rm -rf farms.buildbin-libdir && mkdir farms.buildbin-libdir && /Users/biocbuild/BBS/utils/build-universal.sh farms_1.56.0.tar.gz /Library/Frameworks/R.framework/Resources/bin/R farms.buildbin-libdir StartedAt: 2024-10-18 18:28:04 -0400 (Fri, 18 Oct 2024) EndedAt: 2024-10-18 18:28:10 -0400 (Fri, 18 Oct 2024) EllapsedTime: 6.8 seconds RetCode: 0 Status: OK PackageFile: farms_1.56.0.tgz PackageFileSize: 318.8 KiB