Package: farms Version: 1.56.0 Command: /Library/Frameworks/R.framework/Resources/bin/R CMD build --keep-empty-dirs --no-resave-data farms StartedAt: 2024-10-17 00:21:16 -0400 (Thu, 17 Oct 2024) EndedAt: 2024-10-17 00:22:33 -0400 (Thu, 17 Oct 2024) EllapsedTime: 76.3 seconds RetCode: 0 Status: OK PackageFile: farms_1.56.0.tar.gz PackageFileSize: 332.7 KiB