Package: farms Version: 1.56.0 Command: /Library/Frameworks/R.framework/Resources/bin/R CMD INSTALL farms StartedAt: 2024-10-16 15:40:45 -0400 (Wed, 16 Oct 2024) EndedAt: 2024-10-16 15:40:50 -0400 (Wed, 16 Oct 2024) EllapsedTime: 5.0 seconds RetCode: 0 Status: OK