Package: farms Version: 1.56.0 Command: /home/biocbuild/R/R-beta-2024-04-15_r86425/bin/R CMD build --keep-empty-dirs --no-resave-data farms StartedAt: 2024-05-09 00:14:51 -0000 (Thu, 09 May 2024) EndedAt: 2024-05-09 00:16:15 -0000 (Thu, 09 May 2024) EllapsedTime: 84.1 seconds RetCode: 0 Status: OK PackageFile: farms_1.56.0.tar.gz PackageFileSize: 321.8 KiB