Package: farms Version: 1.56.0 Command: /home/biocbuild/R/R-beta-2024-04-15_r86425/bin/R CMD check --install=check:farms.install-out.txt --library=/home/biocbuild/R/R-beta-2024-04-15_r86425/site-library --no-vignettes --timings farms_1.56.0.tar.gz StartedAt: 2024-05-09 07:21:42 -0000 (Thu, 09 May 2024) EndedAt: 2024-05-09 07:22:17 -0000 (Thu, 09 May 2024) EllapsedTime: 35.1 seconds RetCode: 0 Status: OK CheckDir: farms.Rcheck Warnings: 0