Package: farms Version: 1.56.0 Command: /home/biocbuild/R/R-beta-2024-04-15_r86425/bin/R CMD INSTALL farms StartedAt: 2024-05-08 20:05:47 -0000 (Wed, 08 May 2024) EndedAt: 2024-05-08 20:06:00 -0000 (Wed, 08 May 2024) EllapsedTime: 13.0 seconds RetCode: 0 Status: OK