Package: farms Version: 1.56.0 Command: rm -rf farms.buildbin-libdir && mkdir farms.buildbin-libdir && /Users/biocbuild/BBS/utils/build-universal.sh farms_1.56.0.tar.gz /Library/Frameworks/R.framework/Resources/bin/R farms.buildbin-libdir StartedAt: 2024-06-10 00:17:59 -0400 (Mon, 10 Jun 2024) EndedAt: 2024-06-10 00:18:06 -0400 (Mon, 10 Jun 2024) EllapsedTime: 6.7 seconds RetCode: 0 Status: OK PackageFile: farms_1.56.0.tgz PackageFileSize: 319 KiB