Package: farms Version: 1.56.0 Command: /Library/Frameworks/R.framework/Resources/bin/R CMD build --keep-empty-dirs --no-resave-data farms StartedAt: 2024-06-09 16:38:35 -0400 (Sun, 09 Jun 2024) EndedAt: 2024-06-09 16:39:50 -0400 (Sun, 09 Jun 2024) EllapsedTime: 75.0 seconds RetCode: 0 Status: OK PackageFile: farms_1.56.0.tar.gz PackageFileSize: 332.9 KiB