Package: farms Version: 1.56.0 Command: /Library/Frameworks/R.framework/Resources/bin/R CMD INSTALL farms StartedAt: 2024-06-09 15:05:34 -0400 (Sun, 09 Jun 2024) EndedAt: 2024-06-09 15:06:04 -0400 (Sun, 09 Jun 2024) EllapsedTime: 29.9 seconds RetCode: 0 Status: OK