Package: farms Version: 1.56.0 Command: /Library/Frameworks/R.framework/Resources/bin/R CMD build --keep-empty-dirs --no-resave-data farms StartedAt: 2024-10-16 19:12:24 -0400 (Wed, 16 Oct 2024) EndedAt: 2024-10-16 19:15:43 -0400 (Wed, 16 Oct 2024) EllapsedTime: 199.3 seconds RetCode: 0 Status: OK PackageFile: farms_1.56.0.tar.gz PackageFileSize: 332.7 KiB