Package: farms Version: 1.56.0 Command: F:\biocbuild\bbs-3.19-bioc\R\bin\R.exe CMD INSTALL farms StartedAt: 2024-06-26 15:42:50 -0400 (Wed, 26 Jun 2024) EndedAt: 2024-06-26 15:43:08 -0400 (Wed, 26 Jun 2024) EllapsedTime: 18.5 seconds RetCode: 0 Status: OK