Package: farms Version: 1.56.0 Command: chmod a+r farms -R && E:\biocbuild\bbs-3.19-bioc\R\bin\R.exe CMD build --keep-empty-dirs --no-resave-data farms StartedAt: 2024-10-16 19:06:20 -0400 (Wed, 16 Oct 2024) EndedAt: 2024-10-16 19:07:41 -0400 (Wed, 16 Oct 2024) EllapsedTime: 80.4 seconds RetCode: 0 Status: OK PackageFile: farms_1.56.0.tar.gz PackageFileSize: 289 KiB