Package: fastreeR Version: 1.8.0 Command: chmod a+r fastreeR -R && F:\biocbuild\bbs-3.19-bioc\R\bin\R.exe CMD build --keep-empty-dirs --no-resave-data fastreeR StartedAt: 2024-06-26 18:50:17 -0400 (Wed, 26 Jun 2024) EndedAt: 2024-06-26 18:53:16 -0400 (Wed, 26 Jun 2024) EllapsedTime: 178.9 seconds RetCode: 0 Status: OK PackageFile: fastreeR_1.8.0.tar.gz PackageFileSize: 1.975 MiB