Package: fastreeR Version: 1.8.0 Command: E:\biocbuild\bbs-3.19-bioc\R\bin\R.exe CMD INSTALL fastreeR StartedAt: 2024-10-16 16:35:52 -0400 (Wed, 16 Oct 2024) EndedAt: 2024-10-16 16:36:00 -0400 (Wed, 16 Oct 2024) EllapsedTime: 8.0 seconds RetCode: 0 Status: OK