Package: fcScan Version: 1.18.0 Command: /Library/Frameworks/R.framework/Resources/bin/R CMD build --keep-empty-dirs --no-resave-data fcScan StartedAt: 2024-06-09 21:32:05 -0400 (Sun, 09 Jun 2024) EndedAt: 2024-06-09 21:33:28 -0400 (Sun, 09 Jun 2024) EllapsedTime: 83.0 seconds RetCode: 0 Status: OK PackageFile: fcScan_1.18.0.tar.gz PackageFileSize: 241.8 KiB