Package: fcScan Version: 1.18.0 Command: /Library/Frameworks/R.framework/Resources/bin/R CMD INSTALL fcScan StartedAt: 2024-06-09 15:53:19 -0400 (Sun, 09 Jun 2024) EndedAt: 2024-06-09 15:54:20 -0400 (Sun, 09 Jun 2024) EllapsedTime: 60.1 seconds RetCode: 0 Status: OK