Package: fcScan Version: 1.18.0 Command: /home/biocbuild/bbs-3.19-bioc/R/bin/R CMD INSTALL fcScan StartedAt: 2024-10-16 16:09:15 -0400 (Wed, 16 Oct 2024) EndedAt: 2024-10-16 16:09:53 -0400 (Wed, 16 Oct 2024) EllapsedTime: 38.0 seconds RetCode: 0 Status: OK