Package: fdrame Version: 1.76.0 Maintainer: Effi Kenigsberg MaintainerEmail: effiken.fdrame at gmail.com git_url: https://git.bioconductor.org/packages/fdrame git_branch: RELEASE_3_19 git_last_commit: 0675642 git_last_commit_date: 2024-04-30 10:14:20 -0400 (Tue, 30 Apr 2024)