Package: fdrame Version: 1.76.0 Command: rm -rf fdrame.buildbin-libdir && mkdir fdrame.buildbin-libdir && F:\biocbuild\bbs-3.19-bioc\R\bin\R.exe CMD INSTALL --build --library=fdrame.buildbin-libdir fdrame_1.76.0.tar.gz StartedAt: 2024-06-27 08:12:35 -0400 (Thu, 27 Jun 2024) EndedAt: 2024-06-27 08:12:53 -0400 (Thu, 27 Jun 2024) EllapsedTime: 18.7 seconds RetCode: 0 Status: OK PackageFile: fdrame_1.76.0.zip PackageFileSize: 977.2 KiB