Package: fedup Version: 1.12.0 Command: chmod a+r fedup -R && E:\biocbuild\bbs-3.19-bioc\R\bin\R.exe CMD build --keep-empty-dirs --no-resave-data fedup StartedAt: 2024-10-16 19:08:55 -0400 (Wed, 16 Oct 2024) EndedAt: 2024-10-16 19:11:11 -0400 (Wed, 16 Oct 2024) EllapsedTime: 135.8 seconds RetCode: 0 Status: OK PackageFile: fedup_1.12.0.tar.gz PackageFileSize: 3.479 MiB