Package: fenr Version: 1.2.1 Command: /Library/Frameworks/R.framework/Resources/bin/R CMD INSTALL fenr StartedAt: 2024-10-16 17:16:23 -0400 (Wed, 16 Oct 2024) EndedAt: 2024-10-16 17:16:28 -0400 (Wed, 16 Oct 2024) EllapsedTime: 5.0 seconds RetCode: 0 Status: OK