Package: fenr Version: 1.2.0 Command: rm -rf fenr.buildbin-libdir && mkdir fenr.buildbin-libdir && /Users/biocbuild/BBS/utils/build-universal.sh fenr_1.2.0.tar.gz /Library/Frameworks/R.framework/Resources/bin/R fenr.buildbin-libdir StartedAt: 2024-06-11 11:14:02 -0400 (Tue, 11 Jun 2024) EndedAt: 2024-06-11 11:14:11 -0400 (Tue, 11 Jun 2024) EllapsedTime: 8.6 seconds RetCode: 0 Status: OK PackageFile: fenr_1.2.0.tgz PackageFileSize: 1.746 MiB