Package: fenr Version: 1.2.0 Command: /Library/Frameworks/R.framework/Resources/bin/R CMD build --keep-empty-dirs --no-resave-data fenr StartedAt: 2024-06-09 21:33:07 -0400 (Sun, 09 Jun 2024) EndedAt: 2024-06-09 21:33:50 -0400 (Sun, 09 Jun 2024) EllapsedTime: 43.7 seconds RetCode: 0 Status: OK PackageFile: fenr_1.2.0.tar.gz PackageFileSize: 1.927 MiB