Package: fenr Version: 1.2.0 Command: /Library/Frameworks/R.framework/Resources/bin/R CMD INSTALL fenr StartedAt: 2024-06-09 16:20:19 -0400 (Sun, 09 Jun 2024) EndedAt: 2024-06-09 16:20:24 -0400 (Sun, 09 Jun 2024) EllapsedTime: 5.6 seconds RetCode: 0 Status: OK