Package: fenr Version: 1.2.0 Command: /home/biocbuild/R/R-beta-2024-04-15_r86425/bin/R CMD build --keep-empty-dirs --no-resave-data fenr StartedAt: 2024-05-09 00:16:52 -0000 (Thu, 09 May 2024) EndedAt: 2024-05-09 00:17:25 -0000 (Thu, 09 May 2024) EllapsedTime: 33.0 seconds RetCode: 0 Status: OK PackageFile: fenr_1.2.0.tar.gz PackageFileSize: 1.991 MiB